Package: struct Version: 1.18.0 Command: rm -rf struct.buildbin-libdir && mkdir struct.buildbin-libdir && /Users/biocbuild/BBS/utils/build-universal.sh struct_1.18.0.tar.gz /Library/Frameworks/R.framework/Resources/bin/R struct.buildbin-libdir StartedAt: 2025-02-05 18:01:17 -0500 (Wed, 05 Feb 2025) EndedAt: 2025-02-05 18:01:51 -0500 (Wed, 05 Feb 2025) EllapsedTime: 33.8 seconds RetCode: 0 Status: OK PackageFile: struct_1.18.0.tgz PackageFileSize: 1.579 MiB