Package: struct Version: 1.18.0 Command: /Library/Frameworks/R.framework/Resources/bin/R CMD build --keep-empty-dirs --no-resave-data struct StartedAt: 2025-02-04 09:18:11 -0500 (Tue, 04 Feb 2025) EndedAt: 2025-02-04 09:19:05 -0500 (Tue, 04 Feb 2025) EllapsedTime: 53.9 seconds RetCode: 0 Status: OK PackageFile: struct_1.18.0.tar.gz PackageFileSize: 604.4 KiB