Package: struct Version: 1.18.0 Command: /Library/Frameworks/R.framework/Resources/bin/R CMD check --install=check:struct.install-out.txt --library=/Library/Frameworks/R.framework/Resources/library --no-vignettes --timings struct_1.18.0.tar.gz StartedAt: 2025-02-05 11:59:48 -0500 (Wed, 05 Feb 2025) EndedAt: 2025-02-05 12:03:26 -0500 (Wed, 05 Feb 2025) EllapsedTime: 218.5 seconds RetCode: 0 Status: OK CheckDir: struct.Rcheck Warnings: 0