Package: struct Version: 1.18.0 Command: /Library/Frameworks/R.framework/Resources/bin/R CMD INSTALL struct StartedAt: 2025-02-03 15:23:36 -0500 (Mon, 03 Feb 2025) EndedAt: 2025-02-03 15:24:35 -0500 (Mon, 03 Feb 2025) EllapsedTime: 59.4 seconds RetCode: 0 Status: OK