Package: struct Version: 1.18.0 Command: /home/biocbuild/bbs-3.20-bioc/R/bin/R CMD build --keep-empty-dirs --no-resave-data --md5 struct StartedAt: 2025-02-03 19:32:13 -0500 (Mon, 03 Feb 2025) EndedAt: 2025-02-03 19:32:51 -0500 (Mon, 03 Feb 2025) EllapsedTime: 38.0 seconds RetCode: 0 Status: OK PackageFile: struct_1.18.0.tar.gz PackageFileSize: 601.6 KiB