Package: struct Version: 1.18.0 Command: /home/biocbuild/bbs-3.20-bioc/R/bin/R CMD check --install=check:struct.install-out.txt --library=/home/biocbuild/bbs-3.20-bioc/R/site-library --timings struct_1.18.0.tar.gz StartedAt: 2025-02-04 02:58:46 -0500 (Tue, 04 Feb 2025) EndedAt: 2025-02-04 03:01:35 -0500 (Tue, 04 Feb 2025) EllapsedTime: 169.1 seconds RetCode: 0 Status: OK CheckDir: struct.Rcheck Warnings: 0