Package: struct Version: 1.18.0 Command: chmod a+r struct -R && F:\biocbuild\bbs-3.20-bioc\R\bin\R.exe CMD build --keep-empty-dirs --no-resave-data struct StartedAt: 2025-02-03 22:27:29 -0500 (Mon, 03 Feb 2025) EndedAt: 2025-02-03 22:28:40 -0500 (Mon, 03 Feb 2025) EllapsedTime: 70.9 seconds RetCode: 0 Status: OK PackageFile: struct_1.18.0.tar.gz PackageFileSize: 561.4 KiB