Package: struct Version: 1.18.0 Command: F:\biocbuild\bbs-3.20-bioc\R\bin\R.exe CMD INSTALL struct StartedAt: 2025-02-03 16:18:17 -0500 (Mon, 03 Feb 2025) EndedAt: 2025-02-03 16:19:34 -0500 (Mon, 03 Feb 2025) EllapsedTime: 77.4 seconds RetCode: 0 Status: OK