Package: struct
Version: 1.18.0
Command: /home/biocbuild/R/R/bin/R CMD build --keep-empty-dirs --no-resave-data struct
StartedAt: 2025-02-18 03:09:35 -0000 (Tue, 18 Feb 2025)
EndedAt: 2025-02-18 03:10:24 -0000 (Tue, 18 Feb 2025)
EllapsedTime: 49.0 seconds
RetCode: 0
Status: OK
PackageFile: struct_1.18.0.tar.gz
PackageFileSize: 635 <A href="http://en.wikipedia.org/wiki/KiB" target="_blank">KiB</A>