Package: struct Version: 1.18.0 Command: /home/biocbuild/R/R/bin/R CMD INSTALL struct StartedAt: 2025-02-03 20:30:41 -0000 (Mon, 03 Feb 2025) EndedAt: 2025-02-03 20:31:15 -0000 (Mon, 03 Feb 2025) EllapsedTime: 33.5 seconds RetCode: 0 Status: OK