Package: structToolbox Version: 1.18.1 Command: rm -rf structToolbox.buildbin-libdir && mkdir structToolbox.buildbin-libdir && /Users/biocbuild/BBS/utils/build-universal.sh structToolbox_1.18.1.tar.gz /Library/Frameworks/R.framework/Resources/bin/R structToolbox.buildbin-libdir StartedAt: 2025-02-05 18:01:21 -0500 (Wed, 05 Feb 2025) EndedAt: 2025-02-05 18:02:08 -0500 (Wed, 05 Feb 2025) EllapsedTime: 47.0 seconds RetCode: 0 Status: OK PackageFile: structToolbox_1.18.1.tgz PackageFileSize: 5.584 MiB