Package: structToolbox Version: 1.18.1 Command: rm -rf structToolbox.buildbin-libdir && mkdir structToolbox.buildbin-libdir && F:\biocbuild\bbs-3.20-bioc\R\bin\R.exe CMD INSTALL --build --library=structToolbox.buildbin-libdir structToolbox_1.18.1.tar.gz StartedAt: 2025-02-04 09:37:38 -0500 (Tue, 04 Feb 2025) EndedAt: 2025-02-04 09:40:52 -0500 (Tue, 04 Feb 2025) EllapsedTime: 193.9 seconds RetCode: 0 Status: OK PackageFile: structToolbox_1.18.1.zip PackageFileSize: 4.108 MiB