Package: structToolbox Version: 1.18.1 Command: chmod a+r structToolbox -R && F:\biocbuild\bbs-3.20-bioc\R\bin\R.exe CMD build --keep-empty-dirs --no-resave-data structToolbox StartedAt: 2025-02-03 22:27:43 -0500 (Mon, 03 Feb 2025) EndedAt: 2025-02-03 22:41:55 -0500 (Mon, 03 Feb 2025) EllapsedTime: 852.1 seconds RetCode: 0 Status: OK PackageFile: structToolbox_1.18.1.tar.gz PackageFileSize: 3.413 MiB