Package: structToolbox Version: 1.18.1 Command: /home/biocbuild/R/R/bin/R CMD build --keep-empty-dirs --no-resave-data structToolbox StartedAt: 2025-02-04 03:21:40 -0000 (Tue, 04 Feb 2025) EndedAt: 2025-02-04 03:39:53 -0000 (Tue, 04 Feb 2025) EllapsedTime: 1092.7 seconds RetCode: 0 Status: OK PackageFile: structToolbox_1.18.1.tar.gz PackageFileSize: 3.774 MiB