Package: subSeq Version: 1.36.0 Command: rm -rf subSeq.buildbin-libdir && mkdir subSeq.buildbin-libdir && /Users/biocbuild/BBS/utils/build-universal.sh subSeq_1.36.0.tar.gz /Library/Frameworks/R.framework/Resources/bin/R subSeq.buildbin-libdir StartedAt: 2025-02-01 17:06:35 -0500 (Sat, 01 Feb 2025) EndedAt: 2025-02-01 17:06:43 -0500 (Sat, 01 Feb 2025) EllapsedTime: 8.0 seconds RetCode: 0 Status: OK PackageFile: subSeq_1.36.0.tgz PackageFileSize: 2.946 MiB