Package: subSeq Version: 1.36.0 Command: rm -rf subSeq.buildbin-libdir && mkdir subSeq.buildbin-libdir && /Users/biocbuild/BBS/utils/build-universal.sh subSeq_1.36.0.tar.gz /Library/Frameworks/R.framework/Resources/bin/R subSeq.buildbin-libdir StartedAt: 2025-01-31 13:48:46 -0500 (Fri, 31 Jan 2025) EndedAt: 2025-01-31 13:49:01 -0500 (Fri, 31 Jan 2025) EllapsedTime: 14.8 seconds RetCode: 0 Status: OK PackageFile: subSeq_1.36.0.tgz PackageFileSize: 2.946 MiB