Package: subSeq Version: 1.36.0 Command: /Library/Frameworks/R.framework/Resources/bin/R CMD check --install=check:subSeq.install-out.txt --library=/Library/Frameworks/R.framework/Resources/library --no-vignettes --timings subSeq_1.36.0.tar.gz StartedAt: 2025-01-31 10:51:57 -0500 (Fri, 31 Jan 2025) EndedAt: 2025-01-31 10:56:52 -0500 (Fri, 31 Jan 2025) EllapsedTime: 294.4 seconds RetCode: 0 Status: OK CheckDir: subSeq.Rcheck Warnings: 0