Package: subSeq Version: 1.36.0 Command: /Library/Frameworks/R.framework/Resources/bin/R CMD INSTALL subSeq StartedAt: 2025-01-30 15:46:36 -0500 (Thu, 30 Jan 2025) EndedAt: 2025-01-30 15:46:49 -0500 (Thu, 30 Jan 2025) EllapsedTime: 13.7 seconds RetCode: 0 Status: OK