Package: subSeq Version: 1.36.0 Command: rm -rf subSeq.buildbin-libdir && mkdir subSeq.buildbin-libdir && F:\biocbuild\bbs-3.20-bioc\R\bin\R.exe CMD INSTALL --build --library=subSeq.buildbin-libdir subSeq_1.36.0.tar.gz StartedAt: 2025-01-31 09:44:23 -0500 (Fri, 31 Jan 2025) EndedAt: 2025-01-31 09:44:37 -0500 (Fri, 31 Jan 2025) EllapsedTime: 13.7 seconds RetCode: 0 Status: OK PackageFile: subSeq_1.36.0.zip PackageFileSize: 2.943 MiB