Package: subSeq Version: 1.36.0 Command: /home/biocbuild/R/R/bin/R CMD build --keep-empty-dirs --no-resave-data subSeq StartedAt: 2025-01-31 03:02:35 -0000 (Fri, 31 Jan 2025) EndedAt: 2025-01-31 03:03:27 -0000 (Fri, 31 Jan 2025) EllapsedTime: 52.0 seconds RetCode: 0 Status: OK PackageFile: subSeq_1.36.0.tar.gz PackageFileSize: 2.909 MiB