Package: subSeq Version: 1.36.0 Command: /home/biocbuild/R/R/bin/R CMD check --install=check:subSeq.install-out.txt --library=/home/biocbuild/R/R/site-library --no-vignettes --timings subSeq_1.36.0.tar.gz StartedAt: 2025-01-31 10:51:13 -0000 (Fri, 31 Jan 2025) EndedAt: 2025-01-31 10:53:52 -0000 (Fri, 31 Jan 2025) EllapsedTime: 159.2 seconds RetCode: 0 Status: OK CheckDir: subSeq.Rcheck Warnings: 0