Package: subSeq Version: 1.36.0 Command: /home/biocbuild/R/R/bin/R CMD INSTALL subSeq StartedAt: 2025-01-30 20:32:23 -0000 (Thu, 30 Jan 2025) EndedAt: 2025-01-30 20:32:29 -0000 (Thu, 30 Jan 2025) EllapsedTime: 6.0 seconds RetCode: 0 Status: OK