Package: supersigs Version: 1.14.0 Command: rm -rf supersigs.buildbin-libdir && mkdir supersigs.buildbin-libdir && /Users/biocbuild/BBS/utils/build-universal.sh supersigs_1.14.0.tar.gz /Library/Frameworks/R.framework/Resources/bin/R supersigs.buildbin-libdir StartedAt: 2025-02-01 17:06:53 -0500 (Sat, 01 Feb 2025) EndedAt: 2025-02-01 17:07:35 -0500 (Sat, 01 Feb 2025) EllapsedTime: 42.2 seconds RetCode: 0 Status: OK PackageFile: supersigs_1.14.0.tgz PackageFileSize: 5.428 MiB