Package: supersigs Version: 1.14.0 Command: /Library/Frameworks/R.framework/Resources/bin/R CMD check --install=check:supersigs.install-out.txt --library=/Library/Frameworks/R.framework/Resources/library --no-vignettes --timings supersigs_1.14.0.tar.gz StartedAt: 2025-02-01 11:17:58 -0500 (Sat, 01 Feb 2025) EndedAt: 2025-02-01 11:23:03 -0500 (Sat, 01 Feb 2025) EllapsedTime: 304.8 seconds RetCode: 0 Status: OK CheckDir: supersigs.Rcheck Warnings: 0