Package: supersigs Version: 1.14.0 Command: /Library/Frameworks/R.framework/Resources/bin/R CMD check --install=check:supersigs.install-out.txt --library=/Library/Frameworks/R.framework/Resources/library --no-vignettes --timings supersigs_1.14.0.tar.gz StartedAt: 2025-01-31 10:53:24 -0500 (Fri, 31 Jan 2025) EndedAt: 2025-01-31 11:02:48 -0500 (Fri, 31 Jan 2025) EllapsedTime: 563.3 seconds RetCode: 0 Status: OK CheckDir: supersigs.Rcheck Warnings: 0