Package: supersigs Version: 1.14.0 Command: /Library/Frameworks/R.framework/Resources/bin/R CMD INSTALL supersigs StartedAt: 2025-01-30 16:28:29 -0500 (Thu, 30 Jan 2025) EndedAt: 2025-01-30 16:29:38 -0500 (Thu, 30 Jan 2025) EllapsedTime: 68.8 seconds RetCode: 0 Status: OK