Package: supersigs Version: 1.14.0 Command: F:\biocbuild\bbs-3.20-bioc\R\bin\R.exe CMD INSTALL supersigs StartedAt: 2025-01-30 16:42:11 -0500 (Thu, 30 Jan 2025) EndedAt: 2025-01-30 16:43:01 -0500 (Thu, 30 Jan 2025) EllapsedTime: 50.7 seconds RetCode: 0 Status: OK