Package: supraHex
Version: 1.43.0
Command: rm -rf supraHex.buildbin-libdir && mkdir supraHex.buildbin-libdir && /Users/biocbuild/BBS/utils/build-universal.sh supraHex_1.43.0.tar.gz /Library/Frameworks/R.framework/Resources/bin/R supraHex.buildbin-libdir
StartedAt: 2024-10-19 04:12:56 -0400 (Sat, 19 Oct 2024)
EndedAt: 2024-10-19 04:13:11 -0400 (Sat, 19 Oct 2024)
EllapsedTime: 15.0 seconds
RetCode: 0
Status: OK
PackageFile: supraHex_1.43.0.tgz
PackageFileSize: 3.776 <A href="http://en.wikipedia.org/wiki/MiB" target="_blank">MiB</A>