Package: supraHex Version: 1.44.0 Command: /Library/Frameworks/R.framework/Resources/bin/R CMD INSTALL supraHex StartedAt: 2025-02-17 15:45:17 -0500 (Mon, 17 Feb 2025) EndedAt: 2025-02-17 15:45:35 -0500 (Mon, 17 Feb 2025) EllapsedTime: 18.1 seconds RetCode: 0 Status: OK