Package: supraHex Version: 1.44.0 Command: /home/biocbuild/R/R/bin/R CMD build --keep-empty-dirs --no-resave-data supraHex StartedAt: 2025-02-04 03:23:44 -0000 (Tue, 04 Feb 2025) EndedAt: 2025-02-04 03:24:04 -0000 (Tue, 04 Feb 2025) EllapsedTime: 20.0 seconds RetCode: 1 Status: ERROR PackageFile: None PackageFileSize: NA