Package: supraHex Version: 1.44.0 Command: /home/biocbuild/R/R/bin/R CMD INSTALL supraHex StartedAt: 2025-02-03 20:49:46 -0000 (Mon, 03 Feb 2025) EndedAt: 2025-02-03 20:49:56 -0000 (Mon, 03 Feb 2025) EllapsedTime: 9.9 seconds RetCode: 0 Status: OK