Package: survClust Version: 1.0.0 Command: rm -rf survClust.buildbin-libdir && mkdir survClust.buildbin-libdir && /Users/biocbuild/BBS/utils/build-universal.sh survClust_1.0.0.tar.gz /Library/Frameworks/R.framework/Resources/bin/R survClust.buildbin-libdir StartedAt: 2025-02-05 18:02:12 -0500 (Wed, 05 Feb 2025) EndedAt: 2025-02-05 18:02:48 -0500 (Wed, 05 Feb 2025) EllapsedTime: 35.6 seconds RetCode: 0 Status: OK PackageFile: survClust_1.0.0.tgz PackageFileSize: 763.2 KiB