Package: survClust Version: 1.0.0 Command: /Library/Frameworks/R.framework/Resources/bin/R CMD build --keep-empty-dirs --no-resave-data survClust StartedAt: 2025-02-03 22:46:36 -0500 (Mon, 03 Feb 2025) EndedAt: 2025-02-03 22:51:20 -0500 (Mon, 03 Feb 2025) EllapsedTime: 284.2 seconds RetCode: 0 Status: OK PackageFile: survClust_1.0.0.tar.gz PackageFileSize: 718.8 KiB