Package: survClust Version: 1.0.0 Command: /home/biocbuild/bbs-3.20-bioc/R/bin/R CMD build --keep-empty-dirs --no-resave-data --md5 survClust StartedAt: 2025-02-03 19:33:49 -0500 (Mon, 03 Feb 2025) EndedAt: 2025-02-03 19:35:43 -0500 (Mon, 03 Feb 2025) EllapsedTime: 114.1 seconds RetCode: 0 Status: OK PackageFile: survClust_1.0.0.tar.gz PackageFileSize: 811.3 KiB