Package: survClust
Version: 0.99.8
Command: rm -rf survClust.buildbin-libdir && mkdir survClust.buildbin-libdir && C:\Users\biocbuild\bbs-3.20-bioc\R\bin\R.exe CMD INSTALL --build --library=survClust.buildbin-libdir survClust_0.99.8.tar.gz
StartedAt: 2024-07-16 06:49:32 -0400 (Tue, 16 Jul 2024)
EndedAt: 2024-07-16 06:50:13 -0400 (Tue, 16 Jul 2024)
EllapsedTime: 40.2 seconds
RetCode: 0
Status: OK
PackageFile: survClust_0.99.8.zip
PackageFileSize: 969.4 <A href="http://en.wikipedia.org/wiki/KiB" target="_blank">KiB</A>