Package: survClust Version: 1.0.0 Command: rm -rf survClust.buildbin-libdir && mkdir survClust.buildbin-libdir && F:\biocbuild\bbs-3.20-bioc\R\bin\R.exe CMD INSTALL --build --library=survClust.buildbin-libdir survClust_1.0.0.tar.gz StartedAt: 2025-02-04 09:38:01 -0500 (Tue, 04 Feb 2025) EndedAt: 2025-02-04 09:38:42 -0500 (Tue, 04 Feb 2025) EllapsedTime: 40.8 seconds RetCode: 0 Status: OK PackageFile: survClust_1.0.0.zip PackageFileSize: 970.8 KiB