Package: survClust Version: 1.0.0 Command: chmod a+r survClust -R && F:\biocbuild\bbs-3.20-bioc\R\bin\R.exe CMD build --keep-empty-dirs --no-resave-data survClust StartedAt: 2025-02-03 22:29:26 -0500 (Mon, 03 Feb 2025) EndedAt: 2025-02-03 22:32:21 -0500 (Mon, 03 Feb 2025) EllapsedTime: 175.5 seconds RetCode: 0 Status: OK PackageFile: survClust_1.0.0.tar.gz PackageFileSize: 615.9 KiB