Package: survClust Version: 1.0.0 Command: /home/biocbuild/R/R/bin/R CMD INSTALL survClust StartedAt: 2025-02-03 21:04:11 -0000 (Mon, 03 Feb 2025) EndedAt: 2025-02-03 21:04:47 -0000 (Mon, 03 Feb 2025) EllapsedTime: 35.5 seconds RetCode: 0 Status: OK