Package: survcomp Version: 1.56.0 Command: rm -rf survcomp.buildbin-libdir && mkdir survcomp.buildbin-libdir && /Users/biocbuild/BBS/utils/build-universal.sh survcomp_1.56.0.tar.gz /Library/Frameworks/R.framework/Resources/bin/R survcomp.buildbin-libdir StartedAt: 2025-02-05 18:02:16 -0500 (Wed, 05 Feb 2025) EndedAt: 2025-02-05 18:02:30 -0500 (Wed, 05 Feb 2025) EllapsedTime: 14.5 seconds RetCode: 0 Status: OK PackageFile: survcomp_1.56.0.tgz PackageFileSize: 824.7 KiB