Package: survcomp Version: 1.56.0 Command: /Library/Frameworks/R.framework/Resources/bin/R CMD build --keep-empty-dirs --no-resave-data survcomp StartedAt: 2025-02-04 09:26:38 -0500 (Tue, 04 Feb 2025) EndedAt: 2025-02-04 09:27:06 -0500 (Tue, 04 Feb 2025) EllapsedTime: 27.2 seconds RetCode: 0 Status: OK PackageFile: survcomp_1.56.0.tar.gz PackageFileSize: 638 KiB