Package: survcomp Version: 1.56.0 Command: /Library/Frameworks/R.framework/Resources/bin/R CMD check --install=check:survcomp.install-out.txt --library=/Library/Frameworks/R.framework/Resources/library --no-vignettes --timings survcomp_1.56.0.tar.gz StartedAt: 2025-02-05 12:13:12 -0500 (Wed, 05 Feb 2025) EndedAt: 2025-02-05 12:14:25 -0500 (Wed, 05 Feb 2025) EllapsedTime: 73.3 seconds RetCode: 0 Status: WARNINGS CheckDir: survcomp.Rcheck Warnings: 1