Package: survcomp Version: 1.56.0 Command: /Library/Frameworks/R.framework/Resources/bin/R CMD INSTALL survcomp StartedAt: 2025-02-03 18:15:59 -0500 (Mon, 03 Feb 2025) EndedAt: 2025-02-03 18:16:12 -0500 (Mon, 03 Feb 2025) EllapsedTime: 12.7 seconds RetCode: 0 Status: OK