Package: survcomp
Version: 1.56.0
Command: /home/biocbuild/bbs-3.20-bioc/R/bin/R CMD build --keep-empty-dirs --no-resave-data --md5 survcomp
StartedAt: 2025-02-17 19:19:47 -0500 (Mon, 17 Feb 2025)
EndedAt: 2025-02-17 19:20:05 -0500 (Mon, 17 Feb 2025)
EllapsedTime: 18.0 seconds
RetCode: 0
Status: OK
PackageFile: survcomp_1.56.0.tar.gz
PackageFileSize: 641.7 <A href="http://en.wikipedia.org/wiki/KiB" target="_blank">KiB</A>