Package: sva Version: 3.54.0 Command: F:\biocbuild\bbs-3.20-bioc\R\bin\R.exe CMD INSTALL sva StartedAt: 2025-02-03 16:10:10 -0500 (Mon, 03 Feb 2025) EndedAt: 2025-02-03 16:10:40 -0500 (Mon, 03 Feb 2025) EllapsedTime: 29.6 seconds RetCode: 0 Status: OK