Package: svaNUMT Version: 1.12.0 Command: /Library/Frameworks/R.framework/Resources/bin/R CMD build --keep-empty-dirs --no-resave-data svaNUMT StartedAt: 2025-01-31 09:12:52 -0500 (Fri, 31 Jan 2025) EndedAt: 2025-01-31 09:14:23 -0500 (Fri, 31 Jan 2025) EllapsedTime: 90.9 seconds RetCode: 0 Status: OK PackageFile: svaNUMT_1.12.0.tar.gz PackageFileSize: 818.4 KiB