Package: svaNUMT Version: 1.12.0 Command: rm -rf svaNUMT.buildbin-libdir && mkdir svaNUMT.buildbin-libdir && /Users/biocbuild/BBS/utils/build-universal.sh svaNUMT_1.12.0.tar.gz /Library/Frameworks/R.framework/Resources/bin/R svaNUMT.buildbin-libdir StartedAt: 2025-01-31 13:49:13 -0500 (Fri, 31 Jan 2025) EndedAt: 2025-01-31 13:50:39 -0500 (Fri, 31 Jan 2025) EllapsedTime: 85.3 seconds RetCode: 0 Status: OK PackageFile: svaNUMT_1.12.0.tgz PackageFileSize: 753.4 KiB