Package: svaNUMT Version: 1.12.0 Command: chmod a+r svaNUMT -R && F:\biocbuild\bbs-3.20-bioc\R\bin\R.exe CMD build --keep-empty-dirs --no-resave-data svaNUMT StartedAt: 2025-02-03 22:29:55 -0500 (Mon, 03 Feb 2025) EndedAt: 2025-02-03 22:31:26 -0500 (Mon, 03 Feb 2025) EllapsedTime: 90.3 seconds RetCode: 0 Status: OK PackageFile: svaNUMT_1.12.0.tar.gz PackageFileSize: 700.6 KiB