Package: svaNUMT Version: 1.12.0 Command: /home/biocbuild/R/R/bin/R CMD check --install=check:svaNUMT.install-out.txt --library=/home/biocbuild/R/R/site-library --no-vignettes --timings svaNUMT_1.12.0.tar.gz StartedAt: 2025-01-31 10:54:17 -0000 (Fri, 31 Jan 2025) EndedAt: 2025-01-31 11:00:13 -0000 (Fri, 31 Jan 2025) EllapsedTime: 355.5 seconds RetCode: 0 Status: OK CheckDir: svaNUMT.Rcheck Warnings: 0