Package: svaRetro
Version: 1.12.0
Command: rm -rf svaRetro.buildbin-libdir && mkdir svaRetro.buildbin-libdir && /Users/biocbuild/BBS/utils/build-universal.sh svaRetro_1.12.0.tar.gz /Library/Frameworks/R.framework/Resources/bin/R svaRetro.buildbin-libdir
StartedAt: 2024-11-20 04:54:45 -0500 (Wed, 20 Nov 2024)
EndedAt: 2024-11-20 04:55:44 -0500 (Wed, 20 Nov 2024)
EllapsedTime: 59.0 seconds
RetCode: 0
Status: OK
PackageFile: svaRetro_1.12.0.tgz
PackageFileSize: 1.529 <A href="http://en.wikipedia.org/wiki/MiB" target="_blank">MiB</A>