Package: svaRetro Version: 1.12.0 Command: /Library/Frameworks/R.framework/Resources/bin/R CMD build --keep-empty-dirs --no-resave-data svaRetro StartedAt: 2025-02-03 22:47:17 -0500 (Mon, 03 Feb 2025) EndedAt: 2025-02-03 22:50:10 -0500 (Mon, 03 Feb 2025) EllapsedTime: 173.7 seconds RetCode: 0 Status: OK PackageFile: svaRetro_1.12.0.tar.gz PackageFileSize: 1.533 MiB